BEGIN:VCALENDAR
VERSION:2.0
PRODID:-//Conceptstores Nederland - ECPv6.15.20//NONSGML v1.0//EN
CALSCALE:GREGORIAN
METHOD:PUBLISH
X-WR-CALNAME:Conceptstores Nederland
X-ORIGINAL-URL:https://conceptstoresnederland.nl
X-WR-CALDESC:Evenementen voor Conceptstores Nederland
REFRESH-INTERVAL;VALUE=DURATION:PT1H
X-Robots-Tag:noindex
X-PUBLISHED-TTL:PT1H
BEGIN:VTIMEZONE
TZID:UTC
BEGIN:STANDARD
TZOFFSETFROM:+0000
TZOFFSETTO:+0000
TZNAME:UTC
DTSTART:20240101T000000
END:STANDARD
END:VTIMEZONE
BEGIN:VEVENT
DTSTART;VALUE=DATE:20251021
DTEND;VALUE=DATE:20251022
DTSTAMP:20260423T193641
CREATED:20251109T051421Z
LAST-MODIFIED:20251109T051421Z
UID:4281-1761004800-1761091199@conceptstoresnederland.nl
SUMMARY:Biestemerk Genemuiden - 21 oktober 2025
DESCRIPTION:
URL:https://conceptstoresnederland.nl/event/biestemerk-genemuiden-21-oktober-2025/
LOCATION:Genemuiden\, Genemuiden\, Netherlands
END:VEVENT
END:VCALENDAR