BEGIN:VCALENDAR
VERSION:2.0
PRODID:-//Conceptstores Nederland - ECPv6.15.20//NONSGML v1.0//EN
CALSCALE:GREGORIAN
METHOD:PUBLISH
X-WR-CALNAME:Conceptstores Nederland
X-ORIGINAL-URL:https://conceptstoresnederland.nl
X-WR-CALDESC:Evenementen voor Conceptstores Nederland
REFRESH-INTERVAL;VALUE=DURATION:PT1H
X-Robots-Tag:noindex
X-PUBLISHED-TTL:PT1H
BEGIN:VTIMEZONE
TZID:UTC
BEGIN:STANDARD
TZOFFSETFROM:+0000
TZOFFSETTO:+0000
TZNAME:UTC
DTSTART:20240101T000000
END:STANDARD
END:VTIMEZONE
BEGIN:VEVENT
DTSTART;TZID=UTC:20251019T100000
DTEND;TZID=UTC:20251019T170000
DTSTAMP:20260424T022855
CREATED:20251109T051421Z
LAST-MODIFIED:20251109T051421Z
UID:4234-1760868000-1760893200@conceptstoresnederland.nl
SUMMARY:Dag van het Ploegpaard & Orveltermarkt – zondag 19 oktober 2025
DESCRIPTION:Op zondag 19 oktober 2025 vindt in Orvelte de 19e editie plaats van de Dag van het Ploegpaard. Op de Noordes ploegen grote trekpaarden op traditionele wijze een deel van de archeologische akker. Dit gebeurt in wedstrijdverband\, met deelnemers uit binnen- en buitenland. De wedstrijden starten rond 11.00 uur en duren tot ongeveer 14.00 uur\, afhankelijk van het tempo van de paarden. \nHet evenement trekt jaarlijks veel bezoekers die genieten van de kracht en het vakmanschap van deze indrukwekkende werkdieren. De dag staat garant voor een gemoedelijke en gezellige sfeer\, waarbij historie en traditie tot leven komen. \nDaarnaast is er op de Brink in Orvelte de sfeervolle Orveltermarkt\, geopend van 10.00 tot 17.00 uur. Hier vind je een breed aanbod van ambachtelijke producten\, brocante\, streekproducten en creatieve stands. \n📅 Datum: zondag 19 oktober 2025📍 Ploegen: Noordes\, kruising Brinkstukken/Schapendrift\, Orvelte (11.00 – 14.00 uur)📍 Markt: Brink\, Orvelte (10.00 – 17.00 uur)ℹ️ Info markt: hetbrokantien.nl | hetbrokantien@gmail.com \nBeleef een unieke combinatie van cultuur\, ambacht en gezelligheid tijdens de Dag van het Ploegpaard en Orveltermarkt.
URL:https://conceptstoresnederland.nl/event/dag-van-het-ploegpaard-orveltermarkt-2025/
LOCATION:Orvelte\, Orvelte\, Netherlands
ATTACH;FMTTYPE=:
ORGANIZER;CN="hetbrokantien.nl":MAILTO:hetbrokantien@gmail.com
END:VEVENT
END:VCALENDAR