BEGIN:VCALENDAR
VERSION:2.0
PRODID:-//Conceptstores Nederland - ECPv6.15.20//NONSGML v1.0//EN
CALSCALE:GREGORIAN
METHOD:PUBLISH
X-WR-CALNAME:Conceptstores Nederland
X-ORIGINAL-URL:https://conceptstoresnederland.nl
X-WR-CALDESC:Evenementen voor Conceptstores Nederland
REFRESH-INTERVAL;VALUE=DURATION:PT1H
X-Robots-Tag:noindex
X-PUBLISHED-TTL:PT1H
BEGIN:VTIMEZONE
TZID:UTC
BEGIN:STANDARD
TZOFFSETFROM:+0000
TZOFFSETTO:+0000
TZNAME:UTC
DTSTART:20240101T000000
END:STANDARD
END:VTIMEZONE
BEGIN:VEVENT
DTSTART;TZID=UTC:20251219T140000
DTEND;TZID=UTC:20251219T210000
DTSTAMP:20260426T004918
CREATED:20251012T091602Z
LAST-MODIFIED:20251108T115030Z
UID:5616-1766152800-1766178000@conceptstoresnederland.nl
SUMMARY:Moonlight Shopping Winschoten 2025
DESCRIPTION:Op vrijdag 19 december 2025 verandert het centrum van Winschoten in een sfeervol winterdecor tijdens Moonlight Shopping. Van 14:00 tot 21:00 uur kun je heerlijk kerstshoppen bij de verlichte winkels\, genieten van live muziek\, straatentertainment en gezellige marktkraampjes. \nDe geur van warme chocolademelk en glühwein vult de lucht\, kerstlampjes twinkelen in elke straat\, en overal klinkt vrolijke muziek. Het is dé gelegenheid om nog wat laatste kerstcadeaus te vinden én te genieten van de knusse sfeer in het centrum. \n📅 Datum: Vrijdag 19 december 2025🕓 Tijd: 14:00 – 21:00 uur📍 Locatie: Centrum Winschoten \n🎁 Entree: Gratis \n✨ Sluit het jaar sfeervol af tijdens Moonlight Shopping Winschoten – dé winteravond vol lichtjes\, gezelligheid en muziek!
URL:https://conceptstoresnederland.nl/event/moonlight-shopping-winschoten-19-december-2025/
LOCATION:Winschoten\, Winschoten\, Netherlands
CATEGORIES:Kerstmarkt / wintermarkt
ATTACH;FMTTYPE=image/png:https://conceptstoresnederland.nl/wp-content/uploads/2025/10/Markt-1.png
ORGANIZER;CN="Organisatiebureau Oost-Groningen":MAILTO:info@oost-groningen.net
END:VEVENT
END:VCALENDAR