BEGIN:VCALENDAR
VERSION:2.0
PRODID:-//Conceptstores Nederland - ECPv6.15.20//NONSGML v1.0//EN
CALSCALE:GREGORIAN
METHOD:PUBLISH
X-WR-CALNAME:Conceptstores Nederland
X-ORIGINAL-URL:https://conceptstoresnederland.nl
X-WR-CALDESC:Evenementen voor Conceptstores Nederland
REFRESH-INTERVAL;VALUE=DURATION:PT1H
X-Robots-Tag:noindex
X-PUBLISHED-TTL:PT1H
BEGIN:VTIMEZONE
TZID:UTC
BEGIN:STANDARD
TZOFFSETFROM:+0000
TZOFFSETTO:+0000
TZNAME:UTC
DTSTART:20240101T000000
END:STANDARD
END:VTIMEZONE
BEGIN:VEVENT
DTSTART;TZID=UTC:20251019T120000
DTEND;TZID=UTC:20251019T180000
DTSTAMP:20260423T224309
CREATED:20251109T051421Z
LAST-MODIFIED:20251109T051421Z
UID:4731-1760875200-1760896800@conceptstoresnederland.nl
SUMMARY:Sunday Market Rokin | 19 oktober 2025
DESCRIPTION:Op zondag 19 oktober 2025 vindt de laatste editie van de Sunday Market Rokin van dit jaar plaats. Midden in het bruisende hart van Amsterdam\, maar toch in een oase van rust langs de Oude Turfmarkt\, kun je van 12.00 tot 18.00 uur genieten van een creatieve markt vol unieke producten. \nStruin langs kramen vol fashion\, design\, sieraden\, kunst\, delicatessen en woonaccessoires. Ontdek handgemaakte items van creatieve ondernemers en laat je inspireren door het verrassende aanbod. Dankzij de sfeervolle locatie aan het water heeft deze markt een unieke uitstraling die je niet wilt missen. \nDe toegang is gratis en iedereen is welkom voor een inspirerende en gezellige zondagmiddag in hartje Amsterdam. \n📅 Datum: zondag 19 oktober 2025🕐 Tijd: 12:00 – 18:00 uur📍 Locatie: Oude Turfmarkt\, Amsterdam👉 Info & deelname: info@sundaymarket.nl
URL:https://conceptstoresnederland.nl/event/sunday-market-rokin-19-oktober-2025/
LOCATION:Oude Turfmarkt\, Amsterdam\, Amsterdam\, Netherlands
ATTACH;FMTTYPE=:
ORGANIZER;CN="Sunday Market":MAILTO:info@sundaymarket.nl
END:VEVENT
END:VCALENDAR