BEGIN:VCALENDAR
VERSION:2.0
PRODID:-//Conceptstores Nederland - ECPv6.15.20//NONSGML v1.0//EN
CALSCALE:GREGORIAN
METHOD:PUBLISH
X-WR-CALNAME:Conceptstores Nederland
X-ORIGINAL-URL:https://conceptstoresnederland.nl
X-WR-CALDESC:Evenementen voor Conceptstores Nederland
REFRESH-INTERVAL;VALUE=DURATION:PT1H
X-Robots-Tag:noindex
X-PUBLISHED-TTL:PT1H
BEGIN:VTIMEZONE
TZID:UTC
BEGIN:STANDARD
TZOFFSETFROM:+0000
TZOFFSETTO:+0000
TZNAME:UTC
DTSTART:20240101T000000
END:STANDARD
END:VTIMEZONE
BEGIN:VEVENT
DTSTART;TZID=UTC:20251019T110000
DTEND;TZID=UTC:20251019T170000
DTSTAMP:20260424T004838
CREATED:20251109T051421Z
LAST-MODIFIED:20251109T051421Z
UID:2056-1760871600-1760893200@conceptstoresnederland.nl
SUMMARY:Swan Market Utrecht
DESCRIPTION:Swan Market Utrecht: creatieve lifestyle markt in hartje stad\nBen je op zoek naar een markt vol creativiteit\, ambacht en gezelligheid? Dan is de Swan Market Utrecht een echte aanrader. Deze creatieve lifestyle markt biedt een podium aan jonge ontwerpers\, lokale makers en startende ondernemers\, en trekt jaarlijks duizenden bezoekers. \nWaarom Swan Market Utrecht zo populair is\nDe Swan Market staat bekend als een plek waar winkelen en beleven samenkomen: \n\nHandgemaakte producten: van sieraden en mode tot kunst en woonaccessoires.\nLokale ondernemers die hun passie delen en unieke items aanbieden.\nFoodtrucks & hapjes: geniet van streetfood en ambachtelijke lekkernijen.\nSfeervol entertainment: muziek en activiteiten voor het hele gezin.\n\nMet de historische binnenstad van Utrecht als decor is dit een van de gezelligste lifestyle markten van Nederland. \nWanneer is Swan Market Utrecht?\nDe markt vindt meerdere keren per jaar plaats op sfeervolle locaties in het centrum. Voor actuele data en tijden bekijk je de agenda van Swan Market. Combineer je bezoek met een wandeling langs de grachten of een rondje door de winkelstraten van Utrecht. \nTips voor jouw bezoek\n\nKom vroeg\, zo heb je de meeste keuze en vermijd je de drukte.\nNeem wat contant geld mee; niet elke ondernemer accepteert pin.\nMaak er een dagje uit van en ontdek ook de leukste conceptstores in Utrecht.\n\n\nVeelgestelde vragen over Swan Market Utrecht\nWat kost een bezoek aan Swan Market Utrecht?De entree is meestal gratis of slechts een kleine bijdrage. \nIs Swan Market Utrecht geschikt voor kinderen?Ja\, er zijn vaak kinderactiviteiten en veel lekkers om samen te proeven. \nKan ik zelf deelnemen als ondernemer?Ja\, creatieve makers en foodtrucks kunnen zich aanmelden via de officiële Swan Market website.
URL:https://conceptstoresnederland.nl/event/swan-market-utrecht-2/
END:VEVENT
END:VCALENDAR